BEGIN:VCALENDAR
VERSION:2.0
CALSCALE:GREGORIAN
PRODID:adamgibbons/ics
METHOD:PUBLISH
X-PUBLISHED-TTL:PT1H
BEGIN:VEVENT
UID:23@compostela.acontece.gal
SUMMARY:Acto público: As súas guerras\, a nosa precariedade. A mocidade gal
	ega pola paz e a soberanía
DTSTAMP:20260422T031431Z
DTSTART:20260425T170000Z
URL:https://compostela.acontece.gal/event/acto-publico-as-suas-guerras-a-no
	sa-precariedade-a-mocidade-galega-pola-paz-e-a-soberania
GEO:42.882;-8.53968
LOCATION:Praza 8 de Marzo\, Santiago de Compostela - O Outeiro\, Santiago d
	e Compostela\, Santiago\, A Coruña\, Galicia
STATUS:CONFIRMED
CATEGORIES:antiimperialismo,GalizaNova,nonÁguerra,SantiagoDeCompostela
END:VEVENT
END:VCALENDAR
